BEGIN:VCALENDAR
VERSION:2.0
PRODID:-//La Commune Libre de Montmartre - ECPv5.14.0.1//NONSGML v1.0//EN
CALSCALE:GREGORIAN
METHOD:PUBLISH
X-WR-CALNAME:La Commune Libre de Montmartre
X-ORIGINAL-URL:https://commune-libre-montmartre.fr
X-WR-CALDESC:évènements pour La Commune Libre de Montmartre
BEGIN:VTIMEZONE
TZID:Europe/Helsinki
BEGIN:DAYLIGHT
TZOFFSETFROM:+0200
TZOFFSETTO:+0300
TZNAME:EEST
DTSTART:20230326T010000
END:DAYLIGHT
BEGIN:STANDARD
TZOFFSETFROM:+0300
TZOFFSETTO:+0200
TZNAME:EET
DTSTART:20231029T010000
END:STANDARD
END:VTIMEZONE
BEGIN:VEVENT
DTSTART;VALUE=DATE:20230903
DTEND;VALUE=DATE:20231001
DTSTAMP:20260424T032506
CREATED:20230907T174024Z
LAST-MODIFIED:20230907T174024Z
UID:6871-1693699200-1696118399@commune-libre-montmartre.fr
SUMMARY:Festival Le Feu au Lac
DESCRIPTION:
URL:https://commune-libre-montmartre.fr/event/festival-le-feu-au-lac/
LOCATION:PARIS
CATEGORIES:Actu Montmartroise
ATTACH;FMTTYPE=image/png:https://commune-libre-montmartre.fr/journal/wp-content/uploads/Festival3027Le-feu-au-Lac-2023.png
END:VEVENT
END:VCALENDAR