BEGIN:VCALENDAR
VERSION:2.0
PRODID:-//La Commune Libre de Montmartre - ECPv5.14.0.1//NONSGML v1.0//EN
CALSCALE:GREGORIAN
METHOD:PUBLISH
X-WR-CALNAME:La Commune Libre de Montmartre
X-ORIGINAL-URL:https://commune-libre-montmartre.fr
X-WR-CALDESC:évènements pour La Commune Libre de Montmartre
BEGIN:VTIMEZONE
TZID:Europe/Helsinki
BEGIN:DAYLIGHT
TZOFFSETFROM:+0200
TZOFFSETTO:+0300
TZNAME:EEST
DTSTART:20240331T010000
END:DAYLIGHT
BEGIN:STANDARD
TZOFFSETFROM:+0300
TZOFFSETTO:+0200
TZNAME:EET
DTSTART:20241027T010000
END:STANDARD
END:VTIMEZONE
BEGIN:VEVENT
DTSTART;VALUE=DATE:20240907
DTEND;VALUE=DATE:20240909
DTSTAMP:20260426T025628
CREATED:20240620T171419Z
LAST-MODIFIED:20240620T171419Z
UID:7142-1725667200-1725839999@commune-libre-montmartre.fr
SUMMARY:Festival "Paris vaut bien une fête"
DESCRIPTION:Festival « Paris vaut bien une fête » les 7 et 8 septembre. \nNous soutiendrons cette initiative festive. Une parade est organisée le dimanche 8. L’idée serait de faire un tableau rappelant la première fête du Raisin que Pierre Labric organisa en octobre 1934 avec Maurice Chevalier\, Mistinguett et les Dolly’s du Moulin Rouge. Ici aussi\, nous avons besoin de bonnes volontés. (Contact : Marie-Claude 0676659348). Pour en savoir plus https://pvbf.fr/edition-2024/
URL:https://commune-libre-montmartre.fr/event/festival-paris-vaut-bien-une-fete/
LOCATION:La Butte Montmartre
END:VEVENT
BEGIN:VEVENT
DTSTART;VALUE=DATE:20240907
DTEND;VALUE=DATE:20240909
DTSTAMP:20260426T025628
CREATED:20240620T172208Z
LAST-MODIFIED:20240620T172208Z
UID:7149-1725667200-1725839999@commune-libre-montmartre.fr
SUMMARY:50ème anniversaire de la Commune Libre du Bouffay à Nantes
DESCRIPTION:
URL:https://commune-libre-montmartre.fr/event/50eme-anniversaire-de-la-commune-libre-du-bouffay-a-nantes/
END:VEVENT
END:VCALENDAR