BEGIN:VCALENDAR
VERSION:2.0
PRODID:-//La Commune Libre de Montmartre - ECPv5.14.0.1//NONSGML v1.0//EN
CALSCALE:GREGORIAN
METHOD:PUBLISH
X-WR-CALNAME:La Commune Libre de Montmartre
X-ORIGINAL-URL:https://commune-libre-montmartre.fr
X-WR-CALDESC:évènements pour La Commune Libre de Montmartre
BEGIN:VTIMEZONE
TZID:Europe/Helsinki
BEGIN:DAYLIGHT
TZOFFSETFROM:+0200
TZOFFSETTO:+0300
TZNAME:EEST
DTSTART:20220327T010000
END:DAYLIGHT
BEGIN:STANDARD
TZOFFSETFROM:+0300
TZOFFSETTO:+0200
TZNAME:EET
DTSTART:20221030T010000
END:STANDARD
END:VTIMEZONE
BEGIN:VEVENT
DTSTART;TZID=Europe/Helsinki:20221210T120000
DTEND;TZID=Europe/Helsinki:20221210T150000
DTSTAMP:20260423T114401
CREATED:20221210T085640Z
LAST-MODIFIED:20221210T085640Z
UID:6632-1670673600-1670684400@commune-libre-montmartre.fr
SUMMARY:Tous à Val Gérard
DESCRIPTION:Samedi 10 décembre 2022 de 12h à 15h (19 frimaire 231\, jour de la Sabine qui est une variété de genévrier)\n \nNous irons en délégation place du Général Beuret *\, dans le 15ème arrondissement\, à l’invitation de nos amis du Village Val Gérard (ci-devant Vaugirard). Ils organisent leur traditionnel « AMITOYEN »\, en quelque sorte un pique-nique associant les habitants et les commerçants du quartier. Ce sera l’occasion rêvée pour conclure un triple jumelage : celui de notre Commune Libre de Montmartre avec le Village Val Gérard et avec les Puces de la Porte de Vanves. En bref\, trois quartiers parisiens\, à l’histoire singulière\, au caractère bien trempé et qui entendent bien le faire savoir ! C’est un pique-nique\, on peut apporter à manger et à boire ! \n* Métro : Volontaires ou Vaugirard (ligne 12).
URL:https://commune-libre-montmartre.fr/event/tous-a-val-gerard/
ATTACH;FMTTYPE=image/jpeg:https://commune-libre-montmartre.fr/journal/wp-content/uploads/Val-Gérard-10DEC2022.jpg
END:VEVENT
END:VCALENDAR