BEGIN:VCALENDAR
VERSION:2.0
PRODID:-//La Commune Libre de Montmartre - ECPv5.14.0.1//NONSGML v1.0//EN
CALSCALE:GREGORIAN
METHOD:PUBLISH
X-WR-CALNAME:La Commune Libre de Montmartre
X-ORIGINAL-URL:https://commune-libre-montmartre.fr
X-WR-CALDESC:évènements pour La Commune Libre de Montmartre
BEGIN:VTIMEZONE
TZID:Europe/Helsinki
BEGIN:DAYLIGHT
TZOFFSETFROM:+0200
TZOFFSETTO:+0300
TZNAME:EEST
DTSTART:20230326T010000
END:DAYLIGHT
BEGIN:STANDARD
TZOFFSETFROM:+0300
TZOFFSETTO:+0200
TZNAME:EET
DTSTART:20231029T010000
END:STANDARD
END:VTIMEZONE
BEGIN:VEVENT
DTSTART;TZID=Europe/Helsinki:20231111T193000
DTEND;TZID=Europe/Helsinki:20231111T210000
DTSTAMP:20260424T163737
CREATED:20231101T214741Z
LAST-MODIFIED:20231101T214741Z
UID:6904-1699731000-1699736400@commune-libre-montmartre.fr
SUMMARY:Suis-je chez ce cher Serge ? par Isabelle SOJFER
DESCRIPTION:Samedi 11 novembre\, c’est le retour au Connétable de SUIS-JE CHEZ CE CHER SERGE ?\nUne chanteuse\, un oukoulélé\, un spectacle de chansons entièrement dédié au premier Serge Gainsbourg. Gainsbourg avant Gainsbarre. Celui dont Boris Vian remarque le premier album. À l’époque\, il sait encore se raser\, et il se rase sans raser les autres ! Venez (re)découvrir les titres inoubliables qu’il écrit et compose dans ces années-là \nSAMEDI 11 NOVEMBRE à 19h30  \n55 rue des Archives\, 75003 Paris\, métro Rambuteau \nPour ceux qui ne connaissent pas encore\, le Connétable est un bar (au rez-de-chaussée) un restaurant (au premier) et une salle de concert (au sous-sol). Un bâtiment chargé d’histoire puisque c’est l’ancien hôtel particulier du Cardinal de Retz\, il paraît qu’on prononce ré\, ça tombe bien pour un lieu dédié à la chanson. \nInscription indispensable ! (Salle pleine à craquer la dernière fois) \nEt ça commence à l’heure car il y a un autre spectacle en deuxième partie de soirée. \nEntrée libre\, conso requise\, sortie au chapeau \nSi vous êtes déjà venu(e)\, faites tourner l’info ! \n www.isabellesojfer.com
URL:https://commune-libre-montmartre.fr/event/suis-je-chez-ce-cher-serge-par-isabelle-sojfer/
LOCATION:Le connétable\, 55 rue des Archives\, Paris\, 75003\, France
ATTACH;FMTTYPE=image/jpeg:https://commune-libre-montmartre.fr/journal/wp-content/uploads/GainsbFlyer2.jpg
END:VEVENT
END:VCALENDAR