BEGIN:VCALENDAR
VERSION:2.0
PRODID:-//La Commune Libre de Montmartre - ECPv5.14.0.1//NONSGML v1.0//EN
CALSCALE:GREGORIAN
METHOD:PUBLISH
X-WR-CALNAME:La Commune Libre de Montmartre
X-ORIGINAL-URL:https://commune-libre-montmartre.fr
X-WR-CALDESC:évènements pour La Commune Libre de Montmartre
BEGIN:VTIMEZONE
TZID:Europe/Helsinki
BEGIN:DAYLIGHT
TZOFFSETFROM:+0200
TZOFFSETTO:+0300
TZNAME:EEST
DTSTART:20230326T010000
END:DAYLIGHT
BEGIN:STANDARD
TZOFFSETFROM:+0300
TZOFFSETTO:+0200
TZNAME:EET
DTSTART:20231029T010000
END:STANDARD
END:VTIMEZONE
BEGIN:VEVENT
DTSTART;TZID=Europe/Helsinki:20230414T203000
DTEND;TZID=Europe/Helsinki:20230414T233000
DTSTAMP:20260424T201014
CREATED:20230403T171307Z
LAST-MODIFIED:20230403T171307Z
UID:6715-1681504200-1681515000@commune-libre-montmartre.fr
SUMMARY:Soirée "Johnny\, ça ne finira jamais"
DESCRIPTION:SOIRÉE SPECTACLE proposée l’Association « Johnny ça ne finira jamais ». \n \nDjemy Sugar\, David Mc Lann et Nico Wask \nvont ALLUMER LE FEU !!!
URL:https://commune-libre-montmartre.fr/event/soiree-johnny-ca-ne-finira-jamais/
LOCATION:Restaurant La Bonne Franquette\, 19 rue Saint-Rustique\, Paris\, 75018\, France
END:VEVENT
END:VCALENDAR