BEGIN:VCALENDAR
VERSION:2.0
PRODID:-//La Commune Libre de Montmartre - ECPv5.14.0.1//NONSGML v1.0//EN
CALSCALE:GREGORIAN
METHOD:PUBLISH
X-WR-CALNAME:La Commune Libre de Montmartre
X-ORIGINAL-URL:https://commune-libre-montmartre.fr
X-WR-CALDESC:évènements pour La Commune Libre de Montmartre
BEGIN:VTIMEZONE
TZID:Europe/Helsinki
BEGIN:DAYLIGHT
TZOFFSETFROM:+0200
TZOFFSETTO:+0300
TZNAME:EEST
DTSTART:20230326T010000
END:DAYLIGHT
BEGIN:STANDARD
TZOFFSETFROM:+0300
TZOFFSETTO:+0200
TZNAME:EET
DTSTART:20231029T010000
END:STANDARD
END:VTIMEZONE
BEGIN:VEVENT
DTSTART;TZID=Europe/Helsinki:20231121T193000
DTEND;TZID=Europe/Helsinki:20231121T230000
DTSTAMP:20260424T131304
CREATED:20231101T215045Z
LAST-MODIFIED:20231101T215045Z
UID:6907-1700595000-1700607600@commune-libre-montmartre.fr
SUMMARY:Soirée ELVIS JAZZ
DESCRIPTION:SOIRÉE ELVIS JAZZ – Mardi 21 novembre 2023 à 19h30\n\n\nC’est reparti … après les Vendanges et le Beaujolais nouveau … la Commune Libre de Montmartre vous proposera sa Troisième soirée Jazz. Après le dîner concocté par le chef de « La Mère Catherine »\, vous aurez le plaisir d’entendre et d’applaudir le « Trio Elvis Jazz » de Vintage Bob Estrougo (batterie)\, Michel Bartissol (contrebasse) et Patrick Zombory (guitare). Pour entendre un échantillon « gratuit » d’Elvis Jazz\, https://www.youtube.com/watch?v=6GTv7j4dNcI\n\n\nAu restaurant La Mère Catherine – 6 place du Tertre (Montmartre) – Participation :46 € (dîner + concert). Toutes les informations dont le menu sont sur notre page weezevent.\n\nPour s’inscrire\, c’est tout simple\, prenez votre carte bancaire\, cliquez sur ce lien et suivez le guide\n\nhttps://my.weezevent.com/clm-jazzelvis-2023nov21
URL:https://commune-libre-montmartre.fr/event/soiree-elvis-jazz/
LOCATION:La Mère Catherine
ATTACH;FMTTYPE=image/jpeg:https://commune-libre-montmartre.fr/journal/wp-content/uploads/Elvis-Jazz-capture-Youtube.jpg
ORGANIZER;CN="Commune%20Libre%20de%20Montmartre":MAILTO:communelibredemontmartre@gmail.com
END:VEVENT
END:VCALENDAR