BEGIN:VCALENDAR
VERSION:2.0
PRODID:-//La Commune Libre de Montmartre - ECPv5.14.0.1//NONSGML v1.0//EN
CALSCALE:GREGORIAN
METHOD:PUBLISH
X-WR-CALNAME:La Commune Libre de Montmartre
X-ORIGINAL-URL:https://commune-libre-montmartre.fr
X-WR-CALDESC:évènements pour La Commune Libre de Montmartre
BEGIN:VTIMEZONE
TZID:Europe/Helsinki
BEGIN:DAYLIGHT
TZOFFSETFROM:+0200
TZOFFSETTO:+0300
TZNAME:EEST
DTSTART:20190331T010000
END:DAYLIGHT
BEGIN:STANDARD
TZOFFSETFROM:+0300
TZOFFSETTO:+0200
TZNAME:EET
DTSTART:20191027T010000
END:STANDARD
END:VTIMEZONE
BEGIN:VEVENT
DTSTART;TZID=Europe/Helsinki:20190922T193000
DTEND;TZID=Europe/Helsinki:20190922T235900
DTSTAMP:20260421T134922
CREATED:20190731T074414Z
LAST-MODIFIED:20191017T154307Z
UID:4534-1569180600-1569196740@commune-libre-montmartre.fr
SUMMARY:Réveillon Républicain (passage à l'an 228) toujours dans la joie
DESCRIPTION:L’arrivée de l’automne (1er vendémiaire) ayant été fixée par l’observatoire de Paris au 23 septembre 2019 à 7h49m (GMT)\, le réveillon républicain saluant la nouvelle année 228 a eu lieu naturellement la veille au soir\, soit le dimanche 22 septembre 2019 à partir de 19h30 au restaurant La Crémaillère.  \nIci aussi\, les citoyennes et les citoyens étaient venus avec leurs plus beaux atours et sont repartis pleins de confettis et de serpentins.\n \nCi-dessous l’album souvenir (si des photos manquent\, il suffit aux photographes de nous les envoyer\, elles seront publiées.) \n \n \n \n \n \n \n \n \n \nEt comme de bien entendu\, sur les douze coups de 22h17\, ils et elles ont envahi pacifiquement la Place du Tertre\, bannière en tête et sous l’autorité poétique de not’bon Maire Marielle-Frédérique Turpaud. \n \n \n \n \n \n \nNouvel An républicain de la commune libre de Montmartre à la crémaillère 1900 – 22 septembre 2019
URL:https://commune-libre-montmartre.fr/event/reveillon-republicain-samedi-22-septembre-19h30/
LOCATION:la Crémaillère 1900\, 15 Place du Tertre\, Paris\, 75018\, France Métropolitaine
CATEGORIES:Banquet
ATTACH;FMTTYPE=image/jpeg:https://commune-libre-montmartre.fr/journal/wp-content/uploads/CDE0092.jpg
ORGANIZER;CN="La%20Commune%20Libre%20de%20Montmartre":MAILTO:communelibredemontmartre@gmail.com
END:VEVENT
END:VCALENDAR