BEGIN:VCALENDAR
VERSION:2.0
PRODID:-//La Commune Libre de Montmartre - ECPv5.14.0.1//NONSGML v1.0//EN
CALSCALE:GREGORIAN
METHOD:PUBLISH
X-WR-CALNAME:La Commune Libre de Montmartre
X-ORIGINAL-URL:https://commune-libre-montmartre.fr
X-WR-CALDESC:évènements pour La Commune Libre de Montmartre
BEGIN:VTIMEZONE
TZID:Europe/Helsinki
BEGIN:DAYLIGHT
TZOFFSETFROM:+0200
TZOFFSETTO:+0300
TZNAME:EEST
DTSTART:20240331T010000
END:DAYLIGHT
BEGIN:STANDARD
TZOFFSETFROM:+0300
TZOFFSETTO:+0200
TZNAME:EET
DTSTART:20241027T010000
END:STANDARD
END:VTIMEZONE
BEGIN:VEVENT
DTSTART;TZID=Europe/Helsinki:20240921T190000
DTEND;TZID=Europe/Helsinki:20240921T230000
DTSTAMP:20260424T130927
CREATED:20240620T172457Z
LAST-MODIFIED:20240620T172457Z
UID:7151-1726945200-1726959600@commune-libre-montmartre.fr
SUMMARY:Réveillon Républicain (passage à l'an 233)
DESCRIPTION:Le restaurant n’est pas encore fixé !
URL:https://commune-libre-montmartre.fr/event/reveillon-republicain-passage-a-lan-233/
LOCATION:La Butte Montmartre
END:VEVENT
END:VCALENDAR