BEGIN:VCALENDAR
VERSION:2.0
PRODID:-//La Commune Libre de Montmartre - ECPv5.14.0.1//NONSGML v1.0//EN
CALSCALE:GREGORIAN
METHOD:PUBLISH
X-WR-CALNAME:La Commune Libre de Montmartre
X-ORIGINAL-URL:https://commune-libre-montmartre.fr
X-WR-CALDESC:évènements pour La Commune Libre de Montmartre
BEGIN:VTIMEZONE
TZID:Europe/Helsinki
BEGIN:DAYLIGHT
TZOFFSETFROM:+0200
TZOFFSETTO:+0300
TZNAME:EEST
DTSTART:20230326T010000
END:DAYLIGHT
BEGIN:STANDARD
TZOFFSETFROM:+0300
TZOFFSETTO:+0200
TZNAME:EET
DTSTART:20231029T010000
END:STANDARD
END:VTIMEZONE
BEGIN:VEVENT
DTSTART;TZID=Europe/Helsinki:20230909T100000
DTEND;TZID=Europe/Helsinki:20230909T170000
DTSTAMP:20260424T050514
CREATED:20230907T173441Z
LAST-MODIFIED:20230907T173441Z
UID:6865-1694253600-1694278800@commune-libre-montmartre.fr
SUMMARY:Retrouvez nous au Forum des Associations du 18è
DESCRIPTION:
URL:https://commune-libre-montmartre.fr/event/retrouvez-nous-au-forum-des-associations-du-18e/
LOCATION:Gymnase Micheline Ostermeyer\, Esplanade Nathalie Sarraute\, Paris\, 75018\, France
CATEGORIES:Actu Montmartroise
ATTACH;FMTTYPE=image/jpeg:https://commune-libre-montmartre.fr/journal/wp-content/uploads/Forum-Asso-18è-2023.jpg
END:VEVENT
END:VCALENDAR