BEGIN:VCALENDAR
VERSION:2.0
PRODID:-//La Commune Libre de Montmartre - ECPv5.14.0.1//NONSGML v1.0//EN
CALSCALE:GREGORIAN
METHOD:PUBLISH
X-WR-CALNAME:La Commune Libre de Montmartre
X-ORIGINAL-URL:https://commune-libre-montmartre.fr
X-WR-CALDESC:évènements pour La Commune Libre de Montmartre
BEGIN:VTIMEZONE
TZID:Europe/Helsinki
BEGIN:DAYLIGHT
TZOFFSETFROM:+0200
TZOFFSETTO:+0300
TZNAME:EEST
DTSTART:20230326T010000
END:DAYLIGHT
BEGIN:STANDARD
TZOFFSETFROM:+0300
TZOFFSETTO:+0200
TZNAME:EET
DTSTART:20231029T010000
END:STANDARD
END:VTIMEZONE
BEGIN:VEVENT
DTSTART;TZID=Europe/Helsinki:20230720T103000
DTEND;TZID=Europe/Helsinki:20230720T103000
DTSTAMP:20260424T050340
CREATED:20230717T202252Z
LAST-MODIFIED:20230717T202252Z
UID:6837-1689849000-1689849000@commune-libre-montmartre.fr
SUMMARY:Obsèques d'Anne FRACHEBOUD
DESCRIPTION:La cérémonie d’obsèques d’Anne FRACHEBOUD aura lieu jeudi 20 juillet 2023 à 10h30 en l’église Saint-Pierre de Montmartre\, place Jean Marais.
URL:https://commune-libre-montmartre.fr/event/obseques-danne-fracheboud/
LOCATION:Église Saint-Pierre de Montmartre\, place Jean Marais\, Paris\, 75018\, France
END:VEVENT
END:VCALENDAR