BEGIN:VCALENDAR
VERSION:2.0
PRODID:-//La Commune Libre de Montmartre - ECPv5.14.0.1//NONSGML v1.0//EN
CALSCALE:GREGORIAN
METHOD:PUBLISH
X-WR-CALNAME:La Commune Libre de Montmartre
X-ORIGINAL-URL:https://commune-libre-montmartre.fr
X-WR-CALDESC:évènements pour La Commune Libre de Montmartre
BEGIN:VTIMEZONE
TZID:Europe/Helsinki
BEGIN:DAYLIGHT
TZOFFSETFROM:+0200
TZOFFSETTO:+0300
TZNAME:EEST
DTSTART:20240331T010000
END:DAYLIGHT
BEGIN:STANDARD
TZOFFSETFROM:+0300
TZOFFSETTO:+0200
TZNAME:EET
DTSTART:20241027T010000
END:STANDARD
END:VTIMEZONE
BEGIN:VEVENT
DTSTART;TZID=Europe/Helsinki:20240601T110000
DTEND;TZID=Europe/Helsinki:20240601T170000
DTSTAMP:20260422T062736
CREATED:20231212T163528Z
LAST-MODIFIED:20231212T163528Z
UID:6955-1717239600-1717261200@commune-libre-montmartre.fr
SUMMARY:Les Mariages Montmartrois dans les Vignes
DESCRIPTION:
URL:https://commune-libre-montmartre.fr/event/les-mariages-montmartrois-dans-les-vignes/
LOCATION:VIGNES DE MONTMARTRE\, rue des Saules\, Paris\, France
END:VEVENT
END:VCALENDAR