BEGIN:VCALENDAR
VERSION:2.0
PRODID:-//La Commune Libre de Montmartre - ECPv5.14.0.1//NONSGML v1.0//EN
CALSCALE:GREGORIAN
METHOD:PUBLISH
X-WR-CALNAME:La Commune Libre de Montmartre
X-ORIGINAL-URL:https://commune-libre-montmartre.fr
X-WR-CALDESC:évènements pour La Commune Libre de Montmartre
BEGIN:VTIMEZONE
TZID:Europe/Helsinki
BEGIN:DAYLIGHT
TZOFFSETFROM:+0200
TZOFFSETTO:+0300
TZNAME:EEST
DTSTART:20240331T010000
END:DAYLIGHT
BEGIN:STANDARD
TZOFFSETFROM:+0300
TZOFFSETTO:+0200
TZNAME:EET
DTSTART:20241027T010000
END:STANDARD
END:VTIMEZONE
BEGIN:VEVENT
DTSTART;TZID=Europe/Helsinki:20240427T160000
DTEND;TZID=Europe/Helsinki:20240427T220000
DTSTAMP:20260422T061436
CREATED:20231205T224417Z
LAST-MODIFIED:20231212T163314Z
UID:6938-1714233600-1714255200@commune-libre-montmartre.fr
SUMMARY:Le Village Val Gérard en fête
DESCRIPTION:Le Village Val Gérard (Paris 15è) invite la Commune Libre de Montmartre pour un goûter/pique-nique amical et citoyen \nC’était celui qui avait été programmé le 16 décembre et annulé pour cause de VigiPirate.
URL:https://commune-libre-montmartre.fr/event/le-village-val-gerard-en-fete/
ATTACH;FMTTYPE=image/jpeg:https://commune-libre-montmartre.fr/journal/wp-content/uploads/VAL-GÉRARD-2023DEC16.jpeg
END:VEVENT
END:VCALENDAR