BEGIN:VCALENDAR
VERSION:2.0
PRODID:-//La Commune Libre de Montmartre - ECPv5.14.0.1//NONSGML v1.0//EN
CALSCALE:GREGORIAN
METHOD:PUBLISH
X-WR-CALNAME:La Commune Libre de Montmartre
X-ORIGINAL-URL:https://commune-libre-montmartre.fr
X-WR-CALDESC:évènements pour La Commune Libre de Montmartre
BEGIN:VTIMEZONE
TZID:Europe/Helsinki
BEGIN:DAYLIGHT
TZOFFSETFROM:+0200
TZOFFSETTO:+0300
TZNAME:EEST
DTSTART:20210328T010000
END:DAYLIGHT
BEGIN:STANDARD
TZOFFSETFROM:+0300
TZOFFSETTO:+0200
TZNAME:EET
DTSTART:20211031T010000
END:STANDARD
END:VTIMEZONE
BEGIN:VEVENT
DTSTART;TZID=Europe/Helsinki:20211120T080000
DTEND;TZID=Europe/Helsinki:20211120T190000
DTSTAMP:20260420T184230
CREATED:20210928T164834Z
LAST-MODIFIED:20210928T164834Z
UID:5674-1637395200-1637434800@commune-libre-montmartre.fr
SUMMARY:Le Premier Vide-greniers de la Commune Libre de Montmartre
DESCRIPTION:C’est l’occasion de sortir vos fripes\, hardes\, bibelots passés de mode et de vider votre grenier\, votre soupente\, votre cave\, votre cagibi. \nPour la première fois\, à l’emplacement où se déroulaient jadis les marchés de Noël\, où on trouve aussi le parcours du goût\, vous pourrez faire des trouvailles.Vous n’imaginez pas tout ce qu’on peut conserver dans les greniers de la Butte. Une bonne occasion aussi de passer une journée avec vos voisins et amis du même quartier et de participer à l’animation du quartier en visant à développer le lien social de solidarité. \nSAMEDI 20 NOVEMBRE du matin au soir. \nRue Azaïs et rue du Cardinal Guibert (derrière le square du Chevalier de la Barre et le long du Sacré-Coeur). \nLes exposants seront des particuliers. Priorité sera donnée aux habitants de la Butte. \nL’accès de la manifestation aux visiteurs est gratuit.
URL:https://commune-libre-montmartre.fr/event/le-premier-vide-greniers-de-la-commune-libre-de-montmartre/
CATEGORIES:Actu Montmartroise
END:VEVENT
END:VCALENDAR