BEGIN:VCALENDAR
VERSION:2.0
PRODID:-//La Commune Libre de Montmartre - ECPv5.14.0.1//NONSGML v1.0//EN
CALSCALE:GREGORIAN
METHOD:PUBLISH
X-WR-CALNAME:La Commune Libre de Montmartre
X-ORIGINAL-URL:https://commune-libre-montmartre.fr
X-WR-CALDESC:évènements pour La Commune Libre de Montmartre
BEGIN:VTIMEZONE
TZID:Europe/Helsinki
BEGIN:DAYLIGHT
TZOFFSETFROM:+0200
TZOFFSETTO:+0300
TZNAME:EEST
DTSTART:20220327T010000
END:DAYLIGHT
BEGIN:STANDARD
TZOFFSETFROM:+0300
TZOFFSETTO:+0200
TZNAME:EET
DTSTART:20221030T010000
END:STANDARD
END:VTIMEZONE
BEGIN:VEVENT
DTSTART;TZID=Europe/Helsinki:20220214T193000
DTEND;TZID=Europe/Helsinki:20220214T230000
DTSTAMP:20260420T170541
CREATED:20220201T220116Z
LAST-MODIFIED:20220201T221758Z
UID:5755-1644867000-1644879600@commune-libre-montmartre.fr
SUMMARY:La Commune Libre fête la Saint-Valentin avec Carine Erseng
DESCRIPTION:Après une période de semi-hibernation\, voici revenu le temps des festivités et la Butte en folie\,\nLe 22 janvier\, la Commune Libre fêtait la Saint-Vincent\, patron des vignerons\, aux côtés de nos amis de la Commanderie du Clos Montmartre …\n\nLundi 14 février\, nous fêterons la SAINT-VALENTIN\net nous nous joindrons à la soirée spéciale\n\npréparée par Carine ERSENG\nau Cabaret chez Ma Cousine (notre Mairie !)\n\n\n\n\n\n\n\nNB : Certains trouveront que 45€\, c’est un peu plus cher que d’habitude. Mais d’autres vous répondront que nous avons fait de sérieuses économies puisque nous n’avons pas organisé de soirée pendant 3 mois en novembre\, décembre et janvier. Et en plus\, ce sera un menu de fête et un spectacle de qualité. Alors ? \nRéservation obligatoire en cliquant sur ce lien\nRèglement sur place\, à l’arrivée\, en espèces ou carte bancaire.
URL:https://commune-libre-montmartre.fr/event/la-commune-libre-fete-la-saint-valentin-avec-carine-erseng/
LOCATION:Chez ma cousine\, 12 rue Norvins\, Paris\, 75018\, France
CATEGORIES:Actu Montmartroise,Actualité des membres,Banquet,Les Zamis des Zadhérents
END:VEVENT
END:VCALENDAR