BEGIN:VCALENDAR
VERSION:2.0
PRODID:-//La Commune Libre de Montmartre - ECPv5.14.0.1//NONSGML v1.0//EN
CALSCALE:GREGORIAN
METHOD:PUBLISH
X-WR-CALNAME:La Commune Libre de Montmartre
X-ORIGINAL-URL:https://commune-libre-montmartre.fr
X-WR-CALDESC:évènements pour La Commune Libre de Montmartre
BEGIN:VTIMEZONE
TZID:Europe/Helsinki
BEGIN:DAYLIGHT
TZOFFSETFROM:+0200
TZOFFSETTO:+0300
TZNAME:EEST
DTSTART:20220327T010000
END:DAYLIGHT
BEGIN:STANDARD
TZOFFSETFROM:+0300
TZOFFSETTO:+0200
TZNAME:EET
DTSTART:20221030T010000
END:STANDARD
END:VTIMEZONE
BEGIN:VEVENT
DTSTART;VALUE=DATE:20221222
DTEND;VALUE=DATE:20221224
DTSTAMP:20260421T152256
CREATED:20221212T213627Z
LAST-MODIFIED:20221212T213804Z
UID:6653-1671667200-1671839999@commune-libre-montmartre.fr
SUMMARY:Journées spéciales Montmartre et Johnny Hallyday
DESCRIPTION:Jeudi 22 et vendredi 23 décembre 2022\nDeux journées organisées par les citoyens Willy et Emily Marceau à La Cave d’Edouard 83 rue Lamarck\n\nJeudi 22 (1er nivôse 231\, jour de la Tourbe): journée de dédicaces de livres sur Montmartre\, avec de nombreux auteurs dont Marielle-Frédérique Turpaud et Jean-Loup Bouvier pour la « Fantastique Histoire … »\nVendredi 23 (2 nivôse 231\, jour de la Houille) : journée Spéciale Johnny avec dédicaces de livres et exposition des photos de Jean-Louis Rancurel et des peintures de Willy et Emily.\nDes chansons montmartroises\, des chansons de Johnny et des surprises.
URL:https://commune-libre-montmartre.fr/event/journees-speciales-montmartre-et-johnny-hallyday/
LOCATION:La Cave d’Édouard\, 83 rue Lamarck\, Paris\, 75018
END:VEVENT
END:VCALENDAR