BEGIN:VCALENDAR
VERSION:2.0
PRODID:-//La Commune Libre de Montmartre - ECPv5.14.0.1//NONSGML v1.0//EN
CALSCALE:GREGORIAN
METHOD:PUBLISH
X-WR-CALNAME:La Commune Libre de Montmartre
X-ORIGINAL-URL:https://commune-libre-montmartre.fr
X-WR-CALDESC:évènements pour La Commune Libre de Montmartre
BEGIN:VTIMEZONE
TZID:Europe/Helsinki
BEGIN:DAYLIGHT
TZOFFSETFROM:+0200
TZOFFSETTO:+0300
TZNAME:EEST
DTSTART:20230326T010000
END:DAYLIGHT
BEGIN:STANDARD
TZOFFSETFROM:+0300
TZOFFSETTO:+0200
TZNAME:EET
DTSTART:20231029T010000
END:STANDARD
END:VTIMEZONE
BEGIN:VEVENT
DTSTART;TZID=Europe/Helsinki:20231014T160000
DTEND;TZID=Europe/Helsinki:20231014T170000
DTSTAMP:20260424T205914
CREATED:20230929T212503Z
LAST-MODIFIED:20230929T212503Z
UID:6881-1697299200-1697302800@commune-libre-montmartre.fr
SUMMARY:Guy LÉGER chante Montmartre et Paris\, rue Pierre Dac
DESCRIPTION:Citoyennes et citoyens\,\nAmies et Amis de la Commune Libre de Montmartre\,\n\nRendez-vous à 16h : devant le 95 rue Pierre Dac (angle rue Caulaincourt) : Guy LÉGER y chante Paris et Montmartre (une exclusivité « Commune Libre De Montmartre »).\n\nNous vous attendons nombreuses et nombreux.\nA bientôt sur la Butte.\n\nLa 43ème demi-brigade de Chasseurs Montmartrois à pied
URL:https://commune-libre-montmartre.fr/event/guy-leger-chante-montmartre-et-paris-rue-pierre-dac/
LOCATION:95 rue Pierre Dac
ATTACH;FMTTYPE=image/jpeg:https://commune-libre-montmartre.fr/journal/wp-content/uploads/CLM-LBB559-2019NOV19-GuyLEGER2.jpg
ORGANIZER;CN="Commune%20Libre%20de%20Montmartre":MAILTO:communelibredemontmartre@gmail.com
END:VEVENT
END:VCALENDAR