BEGIN:VCALENDAR
VERSION:2.0
PRODID:-//La Commune Libre de Montmartre - ECPv5.14.0.1//NONSGML v1.0//EN
CALSCALE:GREGORIAN
METHOD:PUBLISH
X-WR-CALNAME:La Commune Libre de Montmartre
X-ORIGINAL-URL:https://commune-libre-montmartre.fr
X-WR-CALDESC:évènements pour La Commune Libre de Montmartre
BEGIN:VTIMEZONE
TZID:Europe/Helsinki
BEGIN:DAYLIGHT
TZOFFSETFROM:+0200
TZOFFSETTO:+0300
TZNAME:EEST
DTSTART:20230326T010000
END:DAYLIGHT
BEGIN:STANDARD
TZOFFSETFROM:+0300
TZOFFSETTO:+0200
TZNAME:EET
DTSTART:20231029T010000
END:STANDARD
END:VTIMEZONE
BEGIN:VEVENT
DTSTART;TZID=Europe/Helsinki:20231101T080000
DTEND;TZID=Europe/Helsinki:20231101T170000
DTSTAMP:20260424T194144
CREATED:20231101T221848Z
LAST-MODIFIED:20231101T221848Z
UID:6911-1698825600-1698858000@commune-libre-montmartre.fr
SUMMARY:Fêtons les Beaujolais Nouveaux
DESCRIPTION:
URL:https://commune-libre-montmartre.fr/event/fetons-les-beaujolais-nouveaux-2/
END:VEVENT
END:VCALENDAR