BEGIN:VCALENDAR
VERSION:2.0
PRODID:-//La Commune Libre de Montmartre - ECPv5.14.0.1//NONSGML v1.0//EN
CALSCALE:GREGORIAN
METHOD:PUBLISH
X-WR-CALNAME:La Commune Libre de Montmartre
X-ORIGINAL-URL:https://commune-libre-montmartre.fr
X-WR-CALDESC:évènements pour La Commune Libre de Montmartre
BEGIN:VTIMEZONE
TZID:Europe/Helsinki
BEGIN:DAYLIGHT
TZOFFSETFROM:+0200
TZOFFSETTO:+0300
TZNAME:EEST
DTSTART:20230326T010000
END:DAYLIGHT
BEGIN:STANDARD
TZOFFSETFROM:+0300
TZOFFSETTO:+0200
TZNAME:EET
DTSTART:20231029T010000
END:STANDARD
END:VTIMEZONE
BEGIN:VEVENT
DTSTART;VALUE=DATE:20230121
DTEND;VALUE=DATE:20230123
DTSTAMP:20260425T150535
CREATED:20230115T185348Z
LAST-MODIFIED:20230115T185348Z
UID:6687-1674259200-1674431999@commune-libre-montmartre.fr
SUMMARY:Fêtes de la Coquille et de Saint-Vincent
DESCRIPTION:Fête de la Coquille Saint-Jacques et de la Saint-Vincent (P.J.)\n\nOrganisée par nos amis de la Commanderie du Clos Montmartre avec la Confrérie de la Coquille St Jacques de Saint-Brieuc ;\n\nStand de la Commanderie du Clos Montmartre (vin chaud\, vin du Clos Montmartre\, produits dérivés) ;\nCriée bretonne\, vente et dégustation des produits de la mer (coquilles St Jacques\, poissons\, brochettes de poissons\, etc.) ;\nProduits du terroir\, vins\, cidre\, champagne… \nBagads\, groupes folkloriques\, chants bretons…
URL:https://commune-libre-montmartre.fr/event/fetes-de-la-coquille-et-de-saint-vincent/
LOCATION:Place des Abbesses
ATTACH;FMTTYPE=image/png:https://commune-libre-montmartre.fr/journal/wp-content/uploads/Fête-2023-de-la-Coquille-et-StVincent.png
END:VEVENT
END:VCALENDAR