BEGIN:VCALENDAR
VERSION:2.0
PRODID:-//La Commune Libre de Montmartre - ECPv5.14.0.1//NONSGML v1.0//EN
CALSCALE:GREGORIAN
METHOD:PUBLISH
X-WR-CALNAME:La Commune Libre de Montmartre
X-ORIGINAL-URL:https://commune-libre-montmartre.fr
X-WR-CALDESC:évènements pour La Commune Libre de Montmartre
BEGIN:VTIMEZONE
TZID:Europe/Helsinki
BEGIN:DAYLIGHT
TZOFFSETFROM:+0200
TZOFFSETTO:+0300
TZNAME:EEST
DTSTART:20250330T010000
END:DAYLIGHT
BEGIN:STANDARD
TZOFFSETFROM:+0300
TZOFFSETTO:+0200
TZNAME:EET
DTSTART:20251026T010000
END:STANDARD
END:VTIMEZONE
BEGIN:VEVENT
DTSTART;VALUE=DATE:20250125
DTEND;VALUE=DATE:20250127
DTSTAMP:20260420T134030
CREATED:20250119T152848Z
LAST-MODIFIED:20250119T152848Z
UID:7215-1737763200-1737935999@commune-libre-montmartre.fr
SUMMARY:Fête de la Coquille Saint-Jacques
DESCRIPTION:La prochaine Fête de la Coquille St Jacques organisée par  \nla Commanderie du Clos Montmartre   \naura lieu les\n25 & 26 janvier prochain\nplace des Abbesses\, 75018 PARIS.
URL:https://commune-libre-montmartre.fr/event/fete-de-la-coquille-saint-jacques/
LOCATION:Place des Abbesses
END:VEVENT
END:VCALENDAR