BEGIN:VCALENDAR
VERSION:2.0
PRODID:-//La Commune Libre de Montmartre - ECPv5.14.0.1//NONSGML v1.0//EN
CALSCALE:GREGORIAN
METHOD:PUBLISH
X-WR-CALNAME:La Commune Libre de Montmartre
X-ORIGINAL-URL:https://commune-libre-montmartre.fr
X-WR-CALDESC:évènements pour La Commune Libre de Montmartre
BEGIN:VTIMEZONE
TZID:Europe/Helsinki
BEGIN:DAYLIGHT
TZOFFSETFROM:+0200
TZOFFSETTO:+0300
TZNAME:EEST
DTSTART:20230326T010000
END:DAYLIGHT
BEGIN:STANDARD
TZOFFSETFROM:+0300
TZOFFSETTO:+0200
TZNAME:EET
DTSTART:20231029T010000
END:STANDARD
END:VTIMEZONE
BEGIN:VEVENT
DTSTART;TZID=Europe/Helsinki:20230414T080000
DTEND;TZID=Europe/Helsinki:20230620T170000
DTSTAMP:20260424T214519
CREATED:20230403T170902Z
LAST-MODIFIED:20230403T170902Z
UID:6713-1681459200-1687280400@commune-libre-montmartre.fr
SUMMARY:Exposition "Hommage à Johnny Hallyday"
DESCRIPTION:
URL:https://commune-libre-montmartre.fr/event/exposition-hommage-a-johnny-hallyday/
LOCATION:La Cave d’Édouard\, 83 rue Lamarck\, Paris\, 75018
END:VEVENT
END:VCALENDAR