BEGIN:VCALENDAR
VERSION:2.0
PRODID:-//La Commune Libre de Montmartre - ECPv5.14.0.1//NONSGML v1.0//EN
CALSCALE:GREGORIAN
METHOD:PUBLISH
X-WR-CALNAME:La Commune Libre de Montmartre
X-ORIGINAL-URL:https://commune-libre-montmartre.fr
X-WR-CALDESC:évènements pour La Commune Libre de Montmartre
BEGIN:VTIMEZONE
TZID:Europe/Helsinki
BEGIN:DAYLIGHT
TZOFFSETFROM:+0200
TZOFFSETTO:+0300
TZNAME:EEST
DTSTART:20230326T010000
END:DAYLIGHT
BEGIN:STANDARD
TZOFFSETFROM:+0300
TZOFFSETTO:+0200
TZNAME:EET
DTSTART:20231029T010000
END:STANDARD
END:VTIMEZONE
BEGIN:VEVENT
DTSTART;VALUE=DATE:20230622
DTEND;VALUE=DATE:20230626
DTSTAMP:20260424T131001
CREATED:20230608T071435Z
LAST-MODIFIED:20230612T150417Z
UID:6738-1687392000-1687737599@commune-libre-montmartre.fr
SUMMARY:Exposition ALLAIS MONTMARTRE
DESCRIPTION:Allais Montmartre ! \nBonjour ! \nLa date du 22 juin 2023 est à marquer d’une pierre blanche dans vos agendas. Si tant est qu’on puisse placer une pierre dans un agenda\, quelle qu’en soit la couleur\, et refermer l’agenda ensuite… Quoi qu’il en soit\, le coup d’envoi d’un happening expositionnel inhabituel sonnera sur les coups de 18h32 environ\, lorsque la maire de la Commune Libre de Montmartre\, Marielle-Frédérique Turpaud\, coupera le ruban tricolore du vernissage de la Galerie Guillet\, avenue Trudaine. Elle dévoilera une ambiance\, des objets\, des documents et – bien évidemment – des œuvres d’artistes montmartrois de la grande époque du tournant du siècle pour lesquels la Butte était devenue le centre du monde artistique. Et tok !… \nDe Bonnard à Gen Paul\, en passant par Steinlen et Robert Coutelas\, vous découvrirez quelques-uns des maîtres de la Butte\, sur l’écrin précieux des cimaises de la galerie. Ils seront accompagnés d’une réunion unique d’objets insolites\, rares\, et superficiels (au sens propre) rassemblés et prêtés très exceptionnellement par Jean-Yves Loriot\, conservateur du Petit Musée d’Alphonse\, de Honfleur\, dédié aux travaux scientifiques d’Alphonse Allais (inventeur du café soluble) : entre autres un vrai morceau de la fausse croix du Christ\, la clysopompe à hydropathe pour rendre impure l’eau potable\, le crâne de Voltaire enfant\, un schéma de la machine à effeuiller les marguerites… \nIls seront secondés par d’autres merveilles\, découverts par l’équipe extraordinaire du département des objets perdus de la Dacadémie (sans fraise) de Paris/Lille : vous découvrirez en exclusivité mondiale la montre noire du Lapin Blanc d’Alice au Pays des Merveilles\, le trou dans la manche pour passer à pied sec en Angleterre\, un bonhomme de neige ramené de Californie\, un nu photographique de Sarah Vigott pris au Téléphotic\, et d’autres raretés réunies pour 4 jours à Paris. \nL’inauguration de l’exposition sera honorée de la présence des Amis d’Alphonse Allais emmenés par Philippe Davis\, président de l’association\, de Myriam Allais et de Josiane Asmane\, deux des marraines du musée\, de membres de la Commune Libre de Montmartre et de son président Jean-Loup Bouvier\, et de Jean-François Macaigne\, l’un des deux secrétaires perpétuels de la Dacadémie. \nGalerie Guillet Arcane 17 – 8 avenue Trudaine (75009).
URL:https://commune-libre-montmartre.fr/event/exposition-allais-montmartre/
LOCATION:Galerie GUILLET Arcane 17\, 8 avenue Trudaine\, Paris\, 75009
CATEGORIES:Actu Montmartroise
ATTACH;FMTTYPE=image/jpeg:https://commune-libre-montmartre.fr/journal/wp-content/uploads/Titre-mail.jpeg
ORGANIZER;CN="Michel%20GUILLET":MAILTO:michel.f.guillet@gmail.com
END:VEVENT
END:VCALENDAR