BEGIN:VCALENDAR
VERSION:2.0
PRODID:-//La Commune Libre de Montmartre - ECPv5.14.0.1//NONSGML v1.0//EN
CALSCALE:GREGORIAN
METHOD:PUBLISH
X-WR-CALNAME:La Commune Libre de Montmartre
X-ORIGINAL-URL:https://commune-libre-montmartre.fr
X-WR-CALDESC:évènements pour La Commune Libre de Montmartre
BEGIN:VTIMEZONE
TZID:Europe/Helsinki
BEGIN:DAYLIGHT
TZOFFSETFROM:+0200
TZOFFSETTO:+0300
TZNAME:EEST
DTSTART:20230326T010000
END:DAYLIGHT
BEGIN:STANDARD
TZOFFSETFROM:+0300
TZOFFSETTO:+0200
TZNAME:EET
DTSTART:20231029T010000
END:STANDARD
END:VTIMEZONE
BEGIN:VEVENT
DTSTART;TZID=Europe/Helsinki:20230121T113000
DTEND;TZID=Europe/Helsinki:20230121T170000
DTSTAMP:20260425T004348
CREATED:20230115T184536Z
LAST-MODIFIED:20230115T184733Z
UID:6679-1674300600-1674320400@commune-libre-montmartre.fr
SUMMARY:Déjeuner de la St Vincent des Compagnons du Beaujolais
DESCRIPTION:Organisé par le Devoir Parisien des Compagnons du Beaujolais\, confrérie jumelée avec la Commune Libre de Montmartre ;\n\nMenu spécial St Vincent\n\n\nCharcuterie lyonnaise – Fondant de bœuf ou poisson – Poire au vin – Beaujolais Blanc et la ronde des crus du Beaujolais Rouges \n INSCRIPTION\n \nRèglement à adresser à Michel BOULANGER 23 rue Jacques Prévert 94880 NOISEAU \n mc-beaujolais-devoir-parisien-tresorier@orange.fr \n  \nTRES IMPORTANT Courriel ADRESSÉ À mc-beaujolais-devoir-parisien-tresorier@orange.fr \nM. ………………………………………………………. assistera au déjeuner de la Saint-Vincent\, accompagné de ……….. personne (s) et verse ce jour par chèque ou virement bancaire \nà l’ordre du Devoir Parisien des Compagnons du Beaujolais \n  \n….. inscription à 49 € prix public\, soit ……………… € \n….. inscription à 39 € prix adhérent à jour de cotisation\, soit ……………… € \nLes inscriptions ne seront prises en compte qu’à réception du réglement \nPar chèque bancaire N° ……………………………… sur ……………………. Ou CCP ……………………………. \nA l’ordre du « Devoir parisien des Compagnons du Beaujolais » \nPar virement bancaire : DEVOIR PARISIEN DES COMPAGNONS DU BEAUJOLAIS \nIBAN : FR76 10278061210002518844117 \nBIC : CMCIFR2A CREDIT MUTUEL \nMerci de bien Indiquer vos noms et prénoms dans le message du virement adressé au destinataire \nPour toutes autres informations : devoirparisien@gmail.com
URL:https://commune-libre-montmartre.fr/event/dejeuner-de-la-st-vincent-des-compagnons-du-beaujolais/
LOCATION:Restaurant La Bonne Franquette\, 19 rue Saint-Rustique\, Paris\, 75018\, France
ATTACH;FMTTYPE=image/jpeg:https://commune-libre-montmartre.fr/journal/wp-content/uploads/DevoirBeaujolais-LOGO-copie.jpg
END:VEVENT
END:VCALENDAR