BEGIN:VCALENDAR
VERSION:2.0
PRODID:-//La Commune Libre de Montmartre - ECPv5.14.0.1//NONSGML v1.0//EN
CALSCALE:GREGORIAN
METHOD:PUBLISH
X-WR-CALNAME:La Commune Libre de Montmartre
X-ORIGINAL-URL:https://commune-libre-montmartre.fr
X-WR-CALDESC:évènements pour La Commune Libre de Montmartre
BEGIN:VTIMEZONE
TZID:Europe/Helsinki
BEGIN:DAYLIGHT
TZOFFSETFROM:+0200
TZOFFSETTO:+0300
TZNAME:EEST
DTSTART:20250330T010000
END:DAYLIGHT
BEGIN:STANDARD
TZOFFSETFROM:+0300
TZOFFSETTO:+0200
TZNAME:EET
DTSTART:20251026T010000
END:STANDARD
END:VTIMEZONE
BEGIN:VEVENT
DTSTART;TZID=Europe/Helsinki:20250909T080000
DTEND;TZID=Europe/Helsinki:20250909T170000
DTSTAMP:20260421T120827
CREATED:20250909T153421Z
LAST-MODIFIED:20250909T153733Z
UID:7413-1757404800-1757437200@commune-libre-montmartre.fr
SUMMARY:Célébrons les 40 ans du mariage Coluche Le Luron
DESCRIPTION:
URL:https://commune-libre-montmartre.fr/event/celebrons-les-40-ans-du-mariage-coluche-le-luron/
LOCATION:Arènes de Montmartre
ORGANIZER;CN="Commune%20Libre%20de%20Montmartre":MAILTO:communelibredemontmartre@gmail.com
END:VEVENT
END:VCALENDAR