BEGIN:VCALENDAR
VERSION:2.0
PRODID:-//La Commune Libre de Montmartre - ECPv5.14.0.1//NONSGML v1.0//EN
CALSCALE:GREGORIAN
METHOD:PUBLISH
X-WR-CALNAME:La Commune Libre de Montmartre
X-ORIGINAL-URL:https://commune-libre-montmartre.fr
X-WR-CALDESC:évènements pour La Commune Libre de Montmartre
BEGIN:VTIMEZONE
TZID:Europe/Helsinki
BEGIN:DAYLIGHT
TZOFFSETFROM:+0200
TZOFFSETTO:+0300
TZNAME:EEST
DTSTART:20230326T010000
END:DAYLIGHT
BEGIN:STANDARD
TZOFFSETFROM:+0300
TZOFFSETTO:+0200
TZNAME:EET
DTSTART:20231029T010000
END:STANDARD
END:VTIMEZONE
BEGIN:VEVENT
DTSTART;TZID=Europe/Helsinki:20230903T190000
DTEND;TZID=Europe/Helsinki:20230903T230000
DTSTAMP:20260424T050340
CREATED:20230831T160624Z
LAST-MODIFIED:20230831T160624Z
UID:6841-1693767600-1693782000@commune-libre-montmartre.fr
SUMMARY:Cabaret Chicago Sounds
DESCRIPTION:Chicago Sounds  (diner-spectacle)\nUn pot-pourri de genres musicaux en provenance de Chicago pour célèbrer le jumelage de Montmartre et du quartier Old Town de Chicago.\nAnimé par Anne et Mark Burnell au piano \n\nAnne & Mark Burnell (blues/jazz/pop)\nAva Logan (jazz)\nBarbara Smith (blues)\nElisabeth Howard (American songbook)\nLou Ella Rose (Philippine songbook)\nSwingin’ Sisters (close harmony trio)
URL:https://commune-libre-montmartre.fr/event/cabaret-chicago-sounds/
LOCATION:la Crémaillère 1900\, 15 Place du Tertre\, Paris\, 75018\, France Métropolitaine
CATEGORIES:Actu Montmartroise
ATTACH;FMTTYPE=image/jpeg:https://commune-libre-montmartre.fr/journal/wp-content/uploads/Chicago-Sounds-03-sept-2023.jpg
END:VEVENT
END:VCALENDAR