BEGIN:VCALENDAR
VERSION:2.0
PRODID:-//La Commune Libre de Montmartre - ECPv5.14.0.1//NONSGML v1.0//EN
CALSCALE:GREGORIAN
METHOD:PUBLISH
X-WR-CALNAME:La Commune Libre de Montmartre
X-ORIGINAL-URL:https://commune-libre-montmartre.fr
X-WR-CALDESC:évènements pour La Commune Libre de Montmartre
BEGIN:VTIMEZONE
TZID:Europe/Helsinki
BEGIN:DAYLIGHT
TZOFFSETFROM:+0200
TZOFFSETTO:+0300
TZNAME:EEST
DTSTART:20230326T010000
END:DAYLIGHT
BEGIN:STANDARD
TZOFFSETFROM:+0300
TZOFFSETTO:+0200
TZNAME:EET
DTSTART:20231029T010000
END:STANDARD
END:VTIMEZONE
BEGIN:VEVENT
DTSTART;TZID=Europe/Helsinki:20230922T193000
DTEND;TZID=Europe/Helsinki:20230922T230000
DTSTAMP:20260425T012824
CREATED:20230626T125208Z
LAST-MODIFIED:20230626T125208Z
UID:6827-1695411000-1695423600@commune-libre-montmartre.fr
SUMMARY:Banquet du Réveillon Républicain  (passage à l'an CCXXXII)
DESCRIPTION:
URL:https://commune-libre-montmartre.fr/event/banquet-du-reveillon-republicain-passage-a-lan-ccxxxii/
ATTACH;FMTTYPE=image/jpeg:https://commune-libre-montmartre.fr/journal/wp-content/uploads/CLM-2022_Réveillon230-RMJ-007.jpg
ORGANIZER;CN="Commune%20Libre%20de%20Montmartre":MAILTO:communelibredemontmartre@gmail.com
END:VEVENT
END:VCALENDAR