BEGIN:VCALENDAR
VERSION:2.0
PRODID:-//La Commune Libre de Montmartre - ECPv5.14.0.1//NONSGML v1.0//EN
CALSCALE:GREGORIAN
METHOD:PUBLISH
X-WR-CALNAME:La Commune Libre de Montmartre
X-ORIGINAL-URL:https://commune-libre-montmartre.fr
X-WR-CALDESC:évènements pour La Commune Libre de Montmartre
BEGIN:VTIMEZONE
TZID:Europe/Paris
BEGIN:DAYLIGHT
TZOFFSETFROM:+0100
TZOFFSETTO:+0200
TZNAME:CEST
DTSTART:20160327T010000
END:DAYLIGHT
BEGIN:STANDARD
TZOFFSETFROM:+0200
TZOFFSETTO:+0100
TZNAME:CET
DTSTART:20161030T010000
END:STANDARD
END:VTIMEZONE
BEGIN:VEVENT
DTSTART;TZID=Europe/Paris:20160419T200000
DTEND;TZID=Europe/Paris:20160419T230000
DTSTAMP:20260420T152348
CREATED:20160401T162956Z
LAST-MODIFIED:20160401T163211Z
UID:900-1461096000-1461106800@commune-libre-montmartre.fr
SUMMARY:Banquet des petits métiers
DESCRIPTION:Ce sera le 30 Germinal an CCXXIV \, ci-devant mardi 19 avril\, que se déroulera le fameux banquet des Petits Métiers. Chacun de nous évoquera ses souvenirs d’enfance : le coupeur de cheveux en quatre\, le miroiteur de lauriers\, le poseur de lapins\, la fleuriste de feuilles dures\, le monnayeur de pièces pour faux-jetons … \nAh ! émouvante nostalgie … \nRéservations obligatoires par mail à communelibredemontmartre@gmail.com \nParticipation aux frais à règler sur place au restaurant.
URL:https://commune-libre-montmartre.fr/event/banquet-des-petits-metiers/
LOCATION:la Crémaillère 1900\, 15 Place du Tertre\, Paris\, 75018\, France Métropolitaine
ATTACH;FMTTYPE=image/jpeg:https://commune-libre-montmartre.fr/journal/wp-content/uploads/Faiseur-dautruche.jpg
ORGANIZER;CN="La%20Commune%20Libre%20de%20Montmartre":MAILTO:communelibredemontmartre@gmail.com
END:VEVENT
END:VCALENDAR