BEGIN:VCALENDAR
VERSION:2.0
PRODID:-//La Commune Libre de Montmartre - ECPv5.14.0.1//NONSGML v1.0//EN
CALSCALE:GREGORIAN
METHOD:PUBLISH
X-WR-CALNAME:La Commune Libre de Montmartre
X-ORIGINAL-URL:https://commune-libre-montmartre.fr
X-WR-CALDESC:évènements pour La Commune Libre de Montmartre
BEGIN:VTIMEZONE
TZID:Europe/Helsinki
BEGIN:DAYLIGHT
TZOFFSETFROM:+0200
TZOFFSETTO:+0300
TZNAME:EEST
DTSTART:20240331T010000
END:DAYLIGHT
BEGIN:STANDARD
TZOFFSETFROM:+0300
TZOFFSETTO:+0200
TZNAME:EET
DTSTART:20241027T010000
END:STANDARD
END:VTIMEZONE
BEGIN:VEVENT
DTSTART;TZID=Europe/Helsinki:20240528T183000
DTEND;TZID=Europe/Helsinki:20240528T200000
DTSTAMP:20260422T044023
CREATED:20240522T142816Z
LAST-MODIFIED:20240522T143523Z
UID:7039-1716921000-1716926400@commune-libre-montmartre.fr
SUMMARY:Assemblée Générale de la Commune Libre de Montmartre
DESCRIPTION:Les adhérents sont convoqués à \nl’Assemblée Générale Ordinaire annuelle  \nqui se tiendra \nMardi 28 mai 2024 de 18h30 à 20h \ndans les salons du Restaurant « La Crémaillère 1900 »\, 15 place du Tertre à Paris 18ème \net sera suivie à 20h d’un diner avec animation\, ouvert à tous. \nRéservation obligatoire pour le diner https://my.weezevent.com/clm-28mai2024
URL:https://commune-libre-montmartre.fr/event/assemblee-generale-de-la-commune-libre-de-montmartre/
LOCATION:la Crémaillère 1900\, 15 Place du Tertre\, Paris\, 75018\, France Métropolitaine
CATEGORIES:Actualité des membres,Banquet
ATTACH;FMTTYPE=image/jpeg:https://commune-libre-montmartre.fr/journal/wp-content/uploads/20221008_130053-scaled.jpg
ORGANIZER;CN="Commune%20Libre%20de%20Montmartre":MAILTO:communelibredemontmartre@gmail.com
END:VEVENT
END:VCALENDAR