BEGIN:VCALENDAR
VERSION:2.0
PRODID:-//La Commune Libre de Montmartre - ECPv5.14.0.1//NONSGML v1.0//EN
CALSCALE:GREGORIAN
METHOD:PUBLISH
X-WR-CALNAME:La Commune Libre de Montmartre
X-ORIGINAL-URL:https://commune-libre-montmartre.fr
X-WR-CALDESC:évènements pour La Commune Libre de Montmartre
BEGIN:VTIMEZONE
TZID:Europe/Helsinki
BEGIN:DAYLIGHT
TZOFFSETFROM:+0200
TZOFFSETTO:+0300
TZNAME:EEST
DTSTART:20240331T010000
END:DAYLIGHT
BEGIN:STANDARD
TZOFFSETFROM:+0300
TZOFFSETTO:+0200
TZNAME:EET
DTSTART:20241027T010000
END:STANDARD
END:VTIMEZONE
BEGIN:VEVENT
DTSTART;VALUE=DATE:20240929
DTEND;VALUE=DATE:20240930
DTSTAMP:20260420T170126
CREATED:20240620T172058Z
LAST-MODIFIED:20240620T172058Z
UID:7147-1727568000-1727654399@commune-libre-montmartre.fr
SUMMARY:6ème Vide-greniers de la Commune Libre
DESCRIPTION:
URL:https://commune-libre-montmartre.fr/event/6eme-vide-greniers-de-la-commune-libre/
LOCATION:au Pied du Sacré Coeur\, rues Azais et Cardinal Guibert\, Paris\, 75018\, France
END:VEVENT
END:VCALENDAR